BEGIN:VCALENDAR
VERSION:2.0
CREATED:20260420T204531Z
PRODID:-//Cryoport\, Inc./Equisolve Calendar v1.0//EN
METHOD:PUBLISH
BEGIN:VEVENT
UID:e35a49f194f63698b36a04404522e145
DTSTAMP:20260422T101158Z
DTSTART:20260504T210000Z
DTEND:20260504T220000Z
SUMMARY:First Quarter 2026 Results Q&A Call
DESCRIPTION:First Quarter 2026 Results Q&A Call\nDate: May 4\, 2026 5:00 pm EDT\nWebcast: https://viavid.webcasts.com/starthere.jsp?ei=1756741&tp_key=39d3c833c6
END:VEVENT
END:VCALENDAR
